BEGIN:VCALENDAR
VERSION:2.0
PRODID:-//Tukios.com/
BEGIN:VEVENT
UID:26a78794-eb4d-4a58-acfd-5cac67a1fca3@www.warrenmcelwain.com
DTSTAMP:20260425T015917Z
DTSTART:20260429T230000Z
DTEND:20260430T010000Z
SUMMARY:Visitation
DESCRIPTION:
URL:https://www.warrenmcelwain.com/obituaries/richard-rose
LOCATION:Warren-Mcelwain Mortuary 120 West 13th Street  Lawrence KS 66044
GEO:38.9602313;-95.2369864
END:VEVENT
END:VCALENDAR