BEGIN:VCALENDAR
VERSION:2.0
PRODID:-//Tukios.com/
BEGIN:VEVENT
UID:c26cde24-c2e9-4b05-8239-bf3193ef0d4a@www.warrenmcelwain.com
DTSTAMP:20260425T020555Z
DTSTART:20260430T160000Z
DTEND:20260430T170000Z
SUMMARY:Memorial Service
DESCRIPTION:
URL:https://www.warrenmcelwain.com/obituaries/richard-rose
LOCATION:Warren-Mcelwain Mortuary 120 West 13th Street  Lawrence KS 66044
GEO:38.9602313;-95.2369864
END:VEVENT
END:VCALENDAR